BEGIN:VCALENDAR
VERSION:2.0
PRODID:spatie/icalendar-generator
DESCRIPTION:Veranstaltungen von FF Steinheim e.V.
X-WR-CALDESC:Veranstaltungen von FF Steinheim e.V.
REFRESH-INTERVAL;VALUE=DURATION:PT1440M
X-PUBLISHED-TTL:PT1440M
BEGIN:VTIMEZONE
TZID:Europe/Berlin
BEGIN:STANDARD
DTSTART:20241027T030000Z
TZOFFSETFROM:+0200
TZOFFSETTO:+0100
END:STANDARD
BEGIN:DAYLIGHT
DTSTART:20250330T020000Z
TZOFFSETFROM:+0100
TZOFFSETTO:+0200
END:DAYLIGHT
BEGIN:STANDARD
DTSTART:20251026T030000Z
TZOFFSETFROM:+0200
TZOFFSETTO:+0100
END:STANDARD
END:VTIMEZONE
BEGIN:VTIMEZONE
TZID:UTC
BEGIN:STANDARD
DTSTART:20250727T065734Z
TZOFFSETFROM:+0000
TZOFFSETTO:+0000
END:STANDARD
END:VTIMEZONE
BEGIN:VEVENT
UID:372-176
DTSTAMP:20260423T065734Z
SUMMARY:Fahrradtour
LOCATION:Feuerwehrhaus Schulstraße 5  Memmingen Bayern 87700
ORGANIZER;CN=Markus Flingelli:MAILTO:Markus.flingelli@gmx.de
DTSTART;TZID=Europe/Berlin:20250705T150000
DTEND;TZID=Europe/Berlin:20250705T230000
X-ALT-DESC;FMTTYPE=TEXT/HTML:Es ist eine Fahrradtour vom Feuerwehrhaus Stei
 nheim nach Niederrieden zum Pfarrgarten. Dort machen wir Pause mit kalten 
 Getränken. Anschließend geht es zum Bauernhof Baader\, wo wir uns mit le
 ckerem Eis stärken. Am Abend sitzen wir uns auf Bockwurst und Steaks im F
 euerwehrhaus zusammen. Die Einladung gilt ausdrücklich auch für Partner 
 und Kinder! Wer nicht mit&amp;hellip\;
CATEGORIES:Verein
URL;VALUE=URI:http://xn--ff-steinheim-allgu-1tb.de/wp/mc-events/fahrradtour
 /
METHOD:PUBLISH
END:VEVENT
END:VCALENDAR