BEGIN:VCALENDAR
VERSION:2.0
PRODID:spatie/icalendar-generator
DESCRIPTION:Veranstaltungen von FF Steinheim e.V.
X-WR-CALDESC:Veranstaltungen von FF Steinheim e.V.
REFRESH-INTERVAL;VALUE=DURATION:PT1440M
X-PUBLISHED-TTL:PT1440M
BEGIN:VTIMEZONE
TZID:Europe/Berlin
BEGIN:STANDARD
DTSTART:20241027T030000Z
TZOFFSETFROM:+0200
TZOFFSETTO:+0100
END:STANDARD
BEGIN:DAYLIGHT
DTSTART:20250330T020000Z
TZOFFSETFROM:+0100
TZOFFSETTO:+0200
END:DAYLIGHT
BEGIN:STANDARD
DTSTART:20251026T030000Z
TZOFFSETFROM:+0200
TZOFFSETTO:+0100
END:STANDARD
END:VTIMEZONE
BEGIN:VTIMEZONE
TZID:UTC
BEGIN:STANDARD
DTSTART:20250726T160743Z
TZOFFSETFROM:+0000
TZOFFSETTO:+0000
END:STANDARD
END:VTIMEZONE
BEGIN:VEVENT
UID:370-175
DTSTAMP:20260422T160743Z
SUMMARY:Festabend FF Heimertingen
LOCATION:Turn- und Festhalle Heimertingen Sechsbaumweg 3  Heimertingen Baye
 rn 87751
ORGANIZER;CN=Markus Flingelli:MAILTO:Markus.flingelli@gmx.de
DTSTART;TZID=Europe/Berlin:20250531T193000
DTEND;TZID=Europe/Berlin:20250531T220000
X-ALT-DESC;FMTTYPE=TEXT/HTML:
CATEGORIES:Verein
URL;VALUE=URI:http://xn--ff-steinheim-allgu-1tb.de/wp/mc-events/festabend-f
 f-heimertingen/
METHOD:PUBLISH
END:VEVENT
END:VCALENDAR