BEGIN:VCALENDAR
VERSION:2.0
PRODID:spatie/icalendar-generator
DESCRIPTION:Veranstaltungen von FF Steinheim e.V.
X-WR-CALDESC:Veranstaltungen von FF Steinheim e.V.
REFRESH-INTERVAL;VALUE=DURATION:PT1440M
X-PUBLISHED-TTL:PT1440M
BEGIN:VTIMEZONE
TZID:Europe/Berlin
BEGIN:STANDARD
DTSTART:20241027T030000Z
TZOFFSETFROM:+0200
TZOFFSETTO:+0100
END:STANDARD
BEGIN:DAYLIGHT
DTSTART:20250330T020000Z
TZOFFSETFROM:+0100
TZOFFSETTO:+0200
END:DAYLIGHT
BEGIN:STANDARD
DTSTART:20251026T030000Z
TZOFFSETFROM:+0200
TZOFFSETTO:+0100
END:STANDARD
END:VTIMEZONE
BEGIN:VTIMEZONE
TZID:UTC
BEGIN:STANDARD
DTSTART:20250727T005144Z
TZOFFSETFROM:+0000
TZOFFSETTO:+0000
END:STANDARD
END:VTIMEZONE
BEGIN:VEVENT
UID:366-177
DTSTAMP:20260423T005144Z
SUMMARY:24h-Übung Jugend
LOCATION:Feuerwehrhaus Amendingen Donaustraße 111  Memmingen Bayern 87700
ORGANIZER;CN=Markus Flingelli:MAILTO:Markus.flingelli@gmx.de
DTSTART;TZID=Europe/Berlin:20250627T150000
DTEND;TZID=Europe/Berlin:20250628T150000
X-ALT-DESC;FMTTYPE=TEXT/HTML:Die Übung startet um 15:00 Uhr in Amendingen 
 am Feuerwehrhaus. Die FF Amendingen ist auch der Ausrichter dieser Übung.
CATEGORIES:Jugend
URL;VALUE=URI:http://xn--ff-steinheim-allgu-1tb.de/wp/mc-events/24h-uebung-
 jugend/
METHOD:PUBLISH
END:VEVENT
END:VCALENDAR